BEGIN:VCALENDAR
VERSION:2.0
PRODID:-//Association of Asset Management Professionals - ECPv6.15.20//NONSGML v1.0//EN
CALSCALE:GREGORIAN
METHOD:PUBLISH
X-ORIGINAL-URL:https://assetmanagementprofessionals.org
X-WR-CALDESC:Events for Association of Asset Management Professionals
REFRESH-INTERVAL;VALUE=DURATION:PT1H
X-Robots-Tag:noindex
X-PUBLISHED-TTL:PT1H
BEGIN:VTIMEZONE
TZID:America/Los_Angeles
BEGIN:DAYLIGHT
TZOFFSETFROM:-0800
TZOFFSETTO:-0700
TZNAME:PDT
DTSTART:20250309T100000
END:DAYLIGHT
BEGIN:STANDARD
TZOFFSETFROM:-0700
TZOFFSETTO:-0800
TZNAME:PST
DTSTART:20251102T090000
END:STANDARD
BEGIN:DAYLIGHT
TZOFFSETFROM:-0800
TZOFFSETTO:-0700
TZNAME:PDT
DTSTART:20260308T100000
END:DAYLIGHT
BEGIN:STANDARD
TZOFFSETFROM:-0700
TZOFFSETTO:-0800
TZNAME:PST
DTSTART:20261101T090000
END:STANDARD
BEGIN:DAYLIGHT
TZOFFSETFROM:-0800
TZOFFSETTO:-0700
TZNAME:PDT
DTSTART:20270314T100000
END:DAYLIGHT
BEGIN:STANDARD
TZOFFSETFROM:-0700
TZOFFSETTO:-0800
TZNAME:PST
DTSTART:20271107T090000
END:STANDARD
END:VTIMEZONE
BEGIN:VEVENT
DTSTART;TZID=America/Los_Angeles:20260519T124000
DTEND;TZID=America/Los_Angeles:20260519T134000
DTSTAMP:20260424T104940
CREATED:20260414T165723Z
LAST-MODIFIED:20260414T172052Z
UID:47646-1779194400-1779198000@assetmanagementprofessionals.org
SUMMARY:WIRAM Panel at TRC 2026: How People and Culture Determine Organizational Success
DESCRIPTION:On May 19\, during The Reliability Conference\, women with distinguished careers and organizational leadership will discuss “Uptime® Elements: People and Culture at Work. Framework and Implementation” at the WIRAM Panel\, organized by Women in Reliability and Asset Management (WIRAM). This session\, led by Maura Abad\, WIRAM Global Director\, is an initiative focused on promoting the professional growth of women in the industry. \nProfessional women are transforming the business landscape\, providing companies and organizations with diverse perspectives\, new approaches to developing solutions\, and the flexibility and resilience needed in an industry where change is the only constant. Women in Reliability and Asset Management (WIRAM) will invite prominent professionals to participate as speakers at the WIRAM Panel at The Reliability Conference 2026\, to be held at the South San Francisco Conference Center\, San Francisco\, CA\, USA\, on May 19 at 12:40 pm. \nClick here for more information 
URL:https://assetmanagementprofessionals.org/event/wiram-panel-at-trc-2026-how-people-and-culture-determine-organizational-success/
LOCATION:South San Francisco Conference Center\, San Francisco\, United States
CATEGORIES:WIRAM Chapters
ATTACH;FMTTYPE=image/jpeg:https://assetmanagementprofessionals.org/wp-content/uploads/2026/04/WIRAM-PANEL.jpg
END:VEVENT
END:VCALENDAR